BEGIN:VCALENDAR
VERSION:2.0
PRODID:-//ST NICHOLAS' ANGLICAN CHURCH, HELSINKI - ECPv6.14.0//NONSGML v1.0//EN
CALSCALE:GREGORIAN
METHOD:PUBLISH
X-WR-CALNAME:ST NICHOLAS' ANGLICAN CHURCH, HELSINKI
X-ORIGINAL-URL:https://www.anglican.fi
X-WR-CALDESC:Events for ST NICHOLAS' ANGLICAN CHURCH, HELSINKI
REFRESH-INTERVAL;VALUE=DURATION:PT1H
X-Robots-Tag:noindex
X-PUBLISHED-TTL:PT1H
BEGIN:VTIMEZONE
TZID:Europe/Helsinki
BEGIN:DAYLIGHT
TZOFFSETFROM:+0200
TZOFFSETTO:+0300
TZNAME:EEST
DTSTART:20250330T010000
END:DAYLIGHT
BEGIN:STANDARD
TZOFFSETFROM:+0300
TZOFFSETTO:+0200
TZNAME:EET
DTSTART:20251026T010000
END:STANDARD
END:VTIMEZONE
BEGIN:VEVENT
DTSTART;TZID=Europe/Helsinki:20250803T100000
DTEND;TZID=Europe/Helsinki:20250803T113000
DTSTAMP:20260425T193803
CREATED:20250729T102739Z
LAST-MODIFIED:20250729T102739Z
UID:5598-1754215200-1754220600@www.anglican.fi
SUMMARY:Sung Eucharist
DESCRIPTION:Minister & Preacher: The Rev’d Kati Pirttimaa
URL:https://www.anglican.fi/event/sung-eucharist-6/
LOCATION:Mikael Agricola kirkko\, Tehtaankatu 23\, Helsinki\, 00150
END:VEVENT
BEGIN:VEVENT
DTSTART;TZID=Europe/Helsinki:20250615T100000
DTEND;TZID=Europe/Helsinki:20250615T113000
DTSTAMP:20260425T193803
CREATED:20250611T100453Z
LAST-MODIFIED:20250611T102719Z
UID:5591-1749981600-1749987000@www.anglican.fi
SUMMARY:Trinity Sunday
DESCRIPTION:Please join us this Trinity Sunday at 10am in Mikael Agricolan kirkko \nMinister & Preacher: The Rev’d Parvez Gill
URL:https://www.anglican.fi/event/trinity-sunday/
LOCATION:Mikael Agricola kirkko\, Tehtaankatu 23\, Helsinki\, 00150
ATTACH;FMTTYPE=image/png:https://www.anglican.fi/wp-content/uploads/2025/06/Trinity-Sunday-2025Instagram-Post-45.png
END:VEVENT
BEGIN:VEVENT
DTSTART;TZID=Europe/Helsinki:20250518T160000
DTEND;TZID=Europe/Helsinki:20250518T170000
DTSTAMP:20260425T193803
CREATED:20250430T103622Z
LAST-MODIFIED:20250430T103622Z
UID:5543-1747584000-1747587600@www.anglican.fi
SUMMARY:Choral Evensong
DESCRIPTION:With St Nicholas Chamber Choir
URL:https://www.anglican.fi/event/choral-evensong-3/
LOCATION:Helsinki Cathedral / tuomiokirkko
END:VEVENT
BEGIN:VEVENT
DTSTART;TZID=Europe/Helsinki:20250518T100000
DTEND;TZID=Europe/Helsinki:20250518T110000
DTSTAMP:20260425T193803
CREATED:20250430T103102Z
LAST-MODIFIED:20250430T103102Z
UID:5539-1747562400-1747566000@www.anglican.fi
SUMMARY:All-Age Service
DESCRIPTION:Minister. The Rev’d Parvez Gill \nFollowed by a picnic on the grassy area next to cafe Carusel by the sea (weather permitting!)
URL:https://www.anglican.fi/event/all-age-service/
LOCATION:Mikael Agricola kirkko\, Tehtaankatu 23\, Helsinki\, 00150
END:VEVENT
BEGIN:VEVENT
DTSTART;TZID=Europe/Helsinki:20250511T100000
DTEND;TZID=Europe/Helsinki:20250511T113000
DTSTAMP:20260425T193803
CREATED:20250430T103158Z
LAST-MODIFIED:20250430T103427Z
UID:5541-1746957600-1746963000@www.anglican.fi
SUMMARY:Sung Eucharist
DESCRIPTION:Minister: The Rev’d Isaac Ohaju
URL:https://www.anglican.fi/event/sung-eucharist-5/
LOCATION:Mikael Agricola kirkko\, Tehtaankatu 23\, Helsinki\, 00150
END:VEVENT
BEGIN:VEVENT
DTSTART;TZID=Europe/Helsinki:20250504T100000
DTEND;TZID=Europe/Helsinki:20250504T113000
DTSTAMP:20260425T193803
CREATED:20250430T102923Z
LAST-MODIFIED:20250430T102923Z
UID:5536-1746352800-1746358200@www.anglican.fi
SUMMARY:Sung Eucharist
DESCRIPTION:Minister & Preacher: The Rev’d Dr Cecilie Strommen \nImage: ‘Feed my sheep’ Christ’s Charge to Peter\, Raphael\, V&A
URL:https://www.anglican.fi/event/sung-eucharist-4/
LOCATION:Mikael Agricola kirkko\, Tehtaankatu 23\, Helsinki\, 00150
ATTACH;FMTTYPE=image/jpeg:https://www.anglican.fi/wp-content/uploads/2025/04/raphael_peter5-large.jpg
END:VEVENT
BEGIN:VEVENT
DTSTART;TZID=Europe/Helsinki:20250427T100000
DTEND;TZID=Europe/Helsinki:20250427T113000
DTSTAMP:20260425T193803
CREATED:20250425T081655Z
LAST-MODIFIED:20250425T081655Z
UID:5530-1745748000-1745753400@www.anglican.fi
SUMMARY:Sung Eucharist
DESCRIPTION:
URL:https://www.anglican.fi/event/sung-eucharist-3/
LOCATION:Mikael Agricola kirkko\, Tehtaankatu 23\, Helsinki\, 00150
END:VEVENT
END:VCALENDAR