BEGIN:VCALENDAR
VERSION:2.0
PRODID:-//ST NICHOLAS' ANGLICAN CHURCH, HELSINKI - ECPv6.14.0//NONSGML v1.0//EN
CALSCALE:GREGORIAN
METHOD:PUBLISH
X-WR-CALNAME:ST NICHOLAS' ANGLICAN CHURCH, HELSINKI
X-ORIGINAL-URL:https://www.anglican.fi
X-WR-CALDESC:Events for ST NICHOLAS' ANGLICAN CHURCH, HELSINKI
REFRESH-INTERVAL;VALUE=DURATION:PT1H
X-Robots-Tag:noindex
X-PUBLISHED-TTL:PT1H
BEGIN:VTIMEZONE
TZID:Europe/Helsinki
BEGIN:DAYLIGHT
TZOFFSETFROM:+0200
TZOFFSETTO:+0300
TZNAME:EEST
DTSTART:20260329T010000
END:DAYLIGHT
BEGIN:STANDARD
TZOFFSETFROM:+0300
TZOFFSETTO:+0200
TZNAME:EET
DTSTART:20261025T010000
END:STANDARD
END:VTIMEZONE
BEGIN:VEVENT
DTSTART;TZID=Europe/Helsinki:20260402T190000
DTEND;TZID=Europe/Helsinki:20260402T200000
DTSTAMP:20260425T005011
CREATED:20260226T093007Z
LAST-MODIFIED:20260226T093033Z
UID:5916-1775156400-1775160000@www.anglican.fi
SUMMARY:Maundy Thursday
DESCRIPTION:Please join us in the CRYPT of Helsinki Cathedral as we remember the Last Supper Jesus had with his disciples.
URL:https://www.anglican.fi/event/maundy-thursday-3/
LOCATION:Helsinki Cathedral Crypt\, kirkkokatu 18\, Helsinki\, 00170\, Finland
END:VEVENT
END:VCALENDAR