BEGIN:VCALENDAR
VERSION:2.0
PRODID:-//ST NICHOLAS' ANGLICAN CHURCH, HELSINKI - ECPv6.14.0//NONSGML v1.0//EN
CALSCALE:GREGORIAN
METHOD:PUBLISH
X-WR-CALNAME:ST NICHOLAS' ANGLICAN CHURCH, HELSINKI
X-ORIGINAL-URL:https://www.anglican.fi
X-WR-CALDESC:Events for ST NICHOLAS' ANGLICAN CHURCH, HELSINKI
REFRESH-INTERVAL;VALUE=DURATION:PT1H
X-Robots-Tag:noindex
X-PUBLISHED-TTL:PT1H
BEGIN:VTIMEZONE
TZID:Europe/Helsinki
BEGIN:DAYLIGHT
TZOFFSETFROM:+0200
TZOFFSETTO:+0300
TZNAME:EEST
DTSTART:20260329T010000
END:DAYLIGHT
BEGIN:STANDARD
TZOFFSETFROM:+0300
TZOFFSETTO:+0200
TZNAME:EET
DTSTART:20261025T010000
END:STANDARD
END:VTIMEZONE
BEGIN:VEVENT
DTSTART;TZID=Europe/Helsinki:20260121T173000
DTEND;TZID=Europe/Helsinki:20260121T180000
DTSTAMP:20260425T053218
CREATED:20251218T144333Z
LAST-MODIFIED:20251218T144738Z
UID:5886-1769016600-1769018400@www.anglican.fi
SUMMARY:Wednesday Evening Prayer Resumes
DESCRIPTION:Please go to the chapel of Mikael Agricolan kirkko – via door C in the courtyard.  Evening Prayer takes place every Wednesday but please check for updates in the newsletter or on our social media pages.
URL:https://www.anglican.fi/event/wednesday-evening-prayer-resumes/
LOCATION:Mikael Agricola Church\, Tehtaankatu 23\, Helsinki\, 00150\, Finland
END:VEVENT
END:VCALENDAR