BEGIN:VCALENDAR
VERSION:2.0
PRODID:-//ST NICHOLAS' ANGLICAN CHURCH, HELSINKI - ECPv6.14.0//NONSGML v1.0//EN
CALSCALE:GREGORIAN
METHOD:PUBLISH
X-ORIGINAL-URL:https://www.anglican.fi
X-WR-CALDESC:Events for ST NICHOLAS' ANGLICAN CHURCH, HELSINKI
REFRESH-INTERVAL;VALUE=DURATION:PT1H
X-Robots-Tag:noindex
X-PUBLISHED-TTL:PT1H
BEGIN:VTIMEZONE
TZID:Europe/Helsinki
BEGIN:DAYLIGHT
TZOFFSETFROM:+0200
TZOFFSETTO:+0300
TZNAME:EEST
DTSTART:20260329T010000
END:DAYLIGHT
BEGIN:STANDARD
TZOFFSETFROM:+0300
TZOFFSETTO:+0200
TZNAME:EET
DTSTART:20261025T010000
END:STANDARD
END:VTIMEZONE
BEGIN:VEVENT
DTSTART;TZID=Europe/Helsinki:20260106T100000
DTEND;TZID=Europe/Helsinki:20260106T110000
DTSTAMP:20260425T053307
CREATED:20251218T142152Z
LAST-MODIFIED:20251218T142152Z
UID:5860-1767693600-1767697200@www.anglican.fi
SUMMARY:Epiphany Service
DESCRIPTION:
URL:https://www.anglican.fi/event/epiphany-service/
LOCATION:Mikael Agricola kirkko\, Tehtaankatu 23\, Helsinki\, 00150
END:VEVENT
END:VCALENDAR